BEGIN:VCALENDAR
VERSION:2.0
PRODID:-//International Fire Suppression Alliance - ECPv6.15.20//NONSGML v1.0//EN
CALSCALE:GREGORIAN
METHOD:PUBLISH
X-ORIGINAL-URL:https://www.ifsaglobal.org
X-WR-CALDESC:Events for International Fire Suppression Alliance
REFRESH-INTERVAL;VALUE=DURATION:PT1H
X-Robots-Tag:noindex
X-PUBLISHED-TTL:PT1H
BEGIN:VTIMEZONE
TZID:America/Indiana/Indianapolis
BEGIN:DAYLIGHT
TZOFFSETFROM:-0500
TZOFFSETTO:-0400
TZNAME:EDT
DTSTART:20250309T070000
END:DAYLIGHT
BEGIN:STANDARD
TZOFFSETFROM:-0400
TZOFFSETTO:-0500
TZNAME:EST
DTSTART:20251102T060000
END:STANDARD
BEGIN:DAYLIGHT
TZOFFSETFROM:-0500
TZOFFSETTO:-0400
TZNAME:EDT
DTSTART:20260308T070000
END:DAYLIGHT
BEGIN:STANDARD
TZOFFSETFROM:-0400
TZOFFSETTO:-0500
TZNAME:EST
DTSTART:20261101T060000
END:STANDARD
BEGIN:DAYLIGHT
TZOFFSETFROM:-0500
TZOFFSETTO:-0400
TZNAME:EDT
DTSTART:20270314T070000
END:DAYLIGHT
BEGIN:STANDARD
TZOFFSETFROM:-0400
TZOFFSETTO:-0500
TZNAME:EST
DTSTART:20271107T060000
END:STANDARD
BEGIN:DAYLIGHT
TZOFFSETFROM:-0500
TZOFFSETTO:-0400
TZNAME:EDT
DTSTART:20280312T070000
END:DAYLIGHT
BEGIN:STANDARD
TZOFFSETFROM:-0400
TZOFFSETTO:-0500
TZNAME:EST
DTSTART:20281105T060000
END:STANDARD
END:VTIMEZONE
BEGIN:VEVENT
DTSTART;VALUE=DATE:20260422
DTEND;VALUE=DATE:20260424
DTSTAMP:20260420T034103
CREATED:20251230T170154Z
LAST-MODIFIED:20260108T140242Z
UID:6291-1776816000-1776988799@www.ifsaglobal.org
SUMMARY:Fire Sprinkler International 2026
DESCRIPTION:Fire Sprinkler International 2026\nDate: April 22 – 23\, 2026\nLocation: Paris Marriott Rive Gauche Hotel & Conference Centre \n\n\n\n\nFire Sprinkler International 2026 is the leading European event focusing on the latest developments in automatic fire extinguishing systems and will be one of the world’s largest conferences\, particularly on fire sprinkler protection.\n\n\n\n\nBuilding on the success of our Salzburg 2025 conference\, which brought together over 400 delegates and 60 exhibitors\, we have planned a comprehensive program enriched with all the latest innovations in the field\, led by 50 speakers\, exploring the latest advances in prevention and the protection of people and property against the dangers and consequences of fires.
URL:https://www.ifsaglobal.org/event/fire-sprinkler-international-2026-april-22-23rd-2026-paris-marriott-rive-gauche-hotel-conference-centre/
CATEGORIES:Conference
END:VEVENT
BEGIN:VEVENT
DTSTART;TZID=America/Indiana/Indianapolis:20260423T100000
DTEND;TZID=America/Indiana/Indianapolis:20260423T100000
DTSTAMP:20260420T034103
CREATED:20260206T191434Z
LAST-MODIFIED:20260206T192634Z
UID:7060-1776938400-1776938400@www.ifsaglobal.org
SUMMARY:Changing Landscape of Data Center Fire Safety
DESCRIPTION:
URL:https://www.ifsaglobal.org/event/changing-landscape-of-data-center-fire-safety/
CATEGORIES:Webinar
END:VEVENT
BEGIN:VEVENT
DTSTART;TZID=America/Indiana/Indianapolis:20260427T080000
DTEND;TZID=America/Indiana/Indianapolis:20260427T170000
DTSTAMP:20260420T034103
CREATED:20260320T200838Z
LAST-MODIFIED:20260323T132954Z
UID:7646-1777276800-1777309200@www.ifsaglobal.org
SUMMARY:HIGH-RISE FIRE PROTECTION STRATEGIES: Advancing fire protection for India’s vertical future
DESCRIPTION:
URL:https://www.ifsaglobal.org/event/high-rise-fire-protection-strategies-advancing-fire-protection-for-indias-vertical-future/
CATEGORIES:Conference
END:VEVENT
BEGIN:VEVENT
DTSTART;VALUE=DATE:20260428
DTEND;VALUE=DATE:20260501
DTSTAMP:20260420T034103
CREATED:20251230T170448Z
LAST-MODIFIED:20260108T135903Z
UID:6297-1777334400-1777593599@www.ifsaglobal.org
SUMMARY:The Fire Safety Event (FSE)
DESCRIPTION:The Fire Safety Event (FSE)\nDate: April 28 – 30\, 2026\nLocation: NEC Birmingham\, GB\nPUTTING FIRE SAFETY AT THE FOREFRONT OF THE AGENDA\n\n\nFrom 28–30 April 2026\, The Fire Safety Event (FSE) returns to ignite the halls of NEC Birmingham\, bringing together the entire fire safety community under one roof. FSE is the premier destination for fire safety professionals\, installers\, integrators\, consultants\, and end users to connect\, collaborate\, and stay ahead of the curve. \nDiscover cutting-edge solutions from the world’s leading manufacturers and distributors\, alongside innovative start-ups driving disruption in the industry.Enhance your knowledge with CPD-accredited content\, developed in partnership with industry leaders and focused on the latest challenges\, trends\, and regulations.
URL:https://www.ifsaglobal.org/event/the-fire-safety-event-fse-april-28-30-2026-nec-birmingham-gb/
CATEGORIES:Conference
END:VEVENT
BEGIN:VEVENT
DTSTART;VALUE=DATE:20260429
DTEND;VALUE=DATE:20260430
DTSTAMP:20260420T034103
CREATED:20251230T170741Z
LAST-MODIFIED:20260108T135813Z
UID:6303-1777420800-1777507199@www.ifsaglobal.org
SUMMARY:The Fire Middle East Conference
DESCRIPTION:The Fire Middle East Conference\nDate: April 29\, 2026\nLocation: New Voco Hotel\, Riyadh\nFor the last 15 years\, we’ve been building a network of Fire and Safety specialists\, rising to become the leading voice in fire protection and rescue sectors within the Middle East Region. \nBy using our strong understanding of the Middle East’s marketplace\, and leveraging our unique relationships\, we will hold the second Fire Middle East Conference on the 29th April 2026. \nThis exclusive event caters to professionals at every level of fire & safety. The Fire Middle East Conference 2026 aims to guarantee its senior-ranking officials a comprehensive agenda of high-level discussions\, addressing the most pertinent safety challenges in the region in 2026 and beyond. We aim to provide extensive education\, networking and future-proofing opportunities for the audience\, giving them the tools to become a pioneer of the industry and remain well-aligned with the Saudi Vision 2030.
URL:https://www.ifsaglobal.org/event/the-fire-middle-east-conference-new-voco-hotel-riyadh-april-29th-2026/
CATEGORIES:Conference
END:VEVENT
BEGIN:VEVENT
DTSTART;VALUE=DATE:20260429
DTEND;VALUE=DATE:20260502
DTSTAMP:20260420T034103
CREATED:20251230T171130Z
LAST-MODIFIED:20260108T135624Z
UID:6309-1777420800-1777679999@www.ifsaglobal.org
SUMMARY:2026 NFSA Annual Seminar & Business & Leadership Conference
DESCRIPTION:2026 NFSA Annual Seminar and Business & Leadership Conference\n\n\n\n\n\n\n\n\n\nDate: April 29\, 2026 – May 1\, 2026 | 8:00 AM-10:00 PM\n\nLocation: The Westin Seattle | 1900 5th Avenue | Seattle\, WA 98101\n\n\n\n\n\n\n\n\nWe hope you will join us in Seattle\, Washington\, for the 2026 NFSA Annual Seminar and Business & Leadership Conference! This year’s event will be a dynamic experience\, bringing together leaders\, experts\, and innovators from across the fire sprinkler industry. \n\n\nOur annual gathering continues to serve as a premier platform for advancing knowledge\, strengthening collaboration\, and driving progress in fire and life safety. As new challenges and opportunities emerge\, NFSA remains committed to equipping our members and partners with the tools and connections needed to succeed. \nAgenda Highlights Include: \n\n Keynote Addresses – Gain insights from visionary leaders shaping the future of fire protection and business leadership.\n Educational Sessions – Engage in 30 sessions covering technical advancements\, leadership development\, and industry-specific best practices.\n Networking Opportunities – Build connections with peers\, professionals\, and future collaborators.\n Tabletops – Discover the latest technologies\, products\, and services showcased by our vendors.\n Awards Banquet – Celebrate excellence across the fire sprinkler industry as we honor the 2026 Golden Sprinkler Award\, Russell P. Fleming Technical Service Award\, and Public Safety Leadership Award recipients.\nCommon Voices Seattle Excursion – Common Voices is mixing things up this year! Instead of a golf outing\, they have planned a two-hour scenic sail on Argosy Cruises’ Spirit of Seattle.\n\nThe 2026 NFSA Annual Seminar and Business & Leadership Conference is more than just an event—it’s an opportunity to exchange ideas\, sharpen expertise\, and chart the path forward for our industry. Whether you’re an experienced professional or new to the field\, this conference offers valuable perspectives and meaningful connections to support your growth and success. \nWe look forward to welcoming you to Seattle for a week of learning\, networking\, and celebration as we continue our mission: protecting lives and property through the widespread acceptance of the fire sprinkler concept.
URL:https://www.ifsaglobal.org/event/2026-nfsa-annual-seminar-business-leadership-conference-seattle-usa-apr-29-may-1-2026/
CATEGORIES:Conference
END:VEVENT
BEGIN:VEVENT
DTSTART;VALUE=DATE:20260505
DTEND;VALUE=DATE:20260508
DTSTAMP:20260420T034103
CREATED:20251230T171434Z
LAST-MODIFIED:20260108T135554Z
UID:6315-1777939200-1778198399@www.ifsaglobal.org
SUMMARY:Fire Australia 2026
DESCRIPTION:Fire Australia 2026\nDate: May 5 – 7\, 2026\nLocation: Melbourne\, AUS\nFire Australia continues to grow in scale\, quality and impact\, and FY26 is set to be our strongest year yet. \nAfter a standout Fire Australia 2025 in Sydney\, we’re excited to bring the event back to Melbourne\, home to one of Australia’s most dynamic fire protection communities. This year’s program builds on everything our delegates value most: practical knowledge\, forward-looking insights\, and the chance to connect with the people shaping the future of our industry. \nFire Australia 2026 will feature an expanded multi-stream conference program\, leading experts from across Australia and abroad\, and a tradeshow showcasing the latest technology\, products and solutions driving better fire safety outcomes. \nWhether you’re joining us to deepen your technical expertise\, explore innovation\, strengthen partnerships or broaden your network\, FA26 promises meaningful conversations\, high-value learning and memorable experiences across three full days. \nWe’re looking forward to welcoming practitioners\, business leaders\, suppliers\, regulators and emerging professionals from across the region\, as we continue building a safer\, more resilient Australia together. \nSee you in Melbourne for Fire Australia 2026.
URL:https://www.ifsaglobal.org/event/fire-australia-2026-melbourne-aus-may-5-7-2026/
CATEGORIES:Conference
END:VEVENT
BEGIN:VEVENT
DTSTART;VALUE=DATE:20260507
DTEND;VALUE=DATE:20260508
DTSTAMP:20260420T034103
CREATED:20251230T172214Z
LAST-MODIFIED:20260107T194658Z
UID:6330-1778112000-1778198399@www.ifsaglobal.org
SUMMARY:IFSJ Leaders in Fire & Safety Conference
DESCRIPTION:IFSJ Leaders in Fire & Safety Conference\nDate: May 7\, 2026\nLocation: Dubai\, UAE\n\n\n\n\n\n\n\n\n\n\nOn 8 May 2025\, 253 senior fire and safety professionals gathered at the Grosvenor House Hotel\, Dubai Marina\, for the IFSJ Leaders in Fire & Safety Conference\, held in partnership with Britannia Fire.\n\n\n\n\n\n\n\n\n\n\n\n\n\n\nThe one-day conference brought together influential voices from across the global fire and safety sector. \nDelegates\, including technical specialists\, strategic decision-makers and policymakers\, met to discuss practical responses to the most pressing risks and trends impacting the industry. \nFrom lithium-ion battery hazards to AI-driven detection\, circular economy practices and evolving workforce demands\, the programme reflected the urgency and complexity of modern fire safety challenges. \nA focus on leadership and risk readiness\nThe day opened with welcome remarks from Ian Stokes\, CEO of Centurian Media Ltd\, and Terry Johnson\, President of the IFE GCC/UAE Branch and Conference Chair. \nTheir comments set the tone for a programme designed to encourage honest dialogue and knowledge exchange. \nJohnson spoke of the need for preparedness and strategic foresight\, while Stokes reflected on the role of platforms such as IFSJ Leaders in advancing operational clarity and regional cooperation. \nThe morning keynote address was delivered by a representative from Dubai Civil Defense\, offering an overview of regulatory initiatives and technological advancements aimed at strengthening pre-emptive response measures. \nLater in the day\, Mike Brunzell\, Vice President of Global Business Development at the National Fire Protection Association\, delivered a closing keynote that looked at international alignment on standards and the continued need for forward-thinking regulation. \nEngaging with complex challenges and practical responses\nThroughout the day\, panel discussions tackled some of the most difficult questions facing fire safety professionals in the Middle East\, Africa and beyond. \nIn the session focused on lithium-ion batteries\, speakers including Ghaith Bakir of UL Solutions\, Eman Mattie-Suleiman of VdS Loss Prevention\, Lt Col Dr Humaid Al Ali of the UAE General Command of Civil Defense\, Chris Chennell of WSP and Ihab Al Bariam of LOAMS examined the risks associated with energy storage systems and the policy adaptations needed to manage them effectively. \nThe sustainability panel highlighted the growing relevance of circular economy models in fire safety product development and procurement. \nAndy Spence of Britannia Fire spoke alongside Aman Sharma of Totus Digital and Ryan Dhindsa of Tuffking\, addressing how manufacturers are working to reduce environmental impact without compromising safety or compliance. \nThe facilities management session brought together representatives from BR Training Solutions\, iFM Facilities Management\, WSP and ATEIS to explore the lifecycle approach to fire safety\, from design and specification through to demolition and replacement. \nIn another session\, the panel led by Eitan Charnoff of the UAE Ministry of Interior’s Secure Communities Forum focused on public safety provision for people of determination\, linking to the UAE’s Year of Community and highlighting the importance of inclusion in emergency planning. \nFurther sessions addressed resilience\, recruitment and retention\, crisis communication and infrastructure protection. \nA high-level panel on workforce development\, moderated by Steve Hamm of the Institution of Fire Engineers\, featured contributions from Sawsan Dahham of SIENA\, Mohammed Saeefan of Saudi Aramco\, Marwan Abu Zaid of Emaar and others. \nTogether\, they discussed how to secure and maintain skilled personnel in an increasingly competitive employment environment. \nSponsor and partner contributions\nAs Platinum Sponsor\, Britannia Fire led a dedicated presentation on sustainable fire extinguisher technologies\, including the development of PFAS-free P50 composite units. \nTheir session reflected the broader theme of environmentally conscious safety solutions and the need to future-proof products and systems in line with evolving regulations. \nGold Sponsor ATEIS\, Silver Sponsors MSA Safety and RelyOn Nutec\, and Supporting Partners Fire Lion Global\, FireDos\, PAC\, Apollo\, VdS and Paradigm also featured prominently throughout the event. \nEach contributed to the interactive exhibition space and dedicated networking zones\, providing a forum for delegates to engage with new technologies and exchange insights directly with solution providers. \nGuidance from an experienced advisory panel\nThe agenda was shaped by the event’s advisory panel\, which included returning members such as Engineer Salma Al Ali of Dubai Civil Defense\, David Campbell of Emirates Safety Laboratory\, Robert Davies of WSP\, Mark Buckingham of King Abdulaziz Airport\, Dana Kamal of NFPA\, and Peter Stephenson of Hydrock. \nNew panellists for 2025 included Lieutenant Colonel Dr Humaid Al Ali\, Deputy Director of Fire Affairs at the UAE General Command of Civil Defense\, and Lieutenant Colonel Dr Essa Almutawa\, Chief Artificial Intelligence Officer at Dubai Civil Defense\, whose input ensured the conference maintained its relevance to emerging threats and technologies. \nThroughout the day\, the conference facilitated meaningful dialogue\, the exchange of best practices\, and the formation of new professional connections. \nDelegates left with a greater understanding of the operational\, regulatory and technological shifts that continue to shape the fire and safety profession. \nSave the Date: IFSJ Leaders in Fire and Safety – 7th May 2026\nIFSJ Leaders in Fire & Safety will return to Dubai in May 2026. \nTo register your interest or enquire about speaking and sponsorship opportunities\, visit: https://ifsjleadersinfireandsafety.com/registration-2026
URL:https://www.ifsaglobal.org/event/ifsj-leaders-in-fire-safety-conference-dubai-uae-may-7-2026/
CATEGORIES:Conference
END:VEVENT
BEGIN:VEVENT
DTSTART;TZID=America/Indiana/Indianapolis:20260507T100000
DTEND;TZID=America/Indiana/Indianapolis:20260507T100000
DTSTAMP:20260420T034103
CREATED:20260206T191533Z
LAST-MODIFIED:20260206T191817Z
UID:7066-1778148000-1778148000@www.ifsaglobal.org
SUMMARY:Chasing the Storage Holy Grail: Ceiling Only K28 (400) & K34 (480) ESFR Sprinkler Protection
DESCRIPTION:
URL:https://www.ifsaglobal.org/event/chasing-the-storage-holy-grail-ceiling-only-k28-400-k34-480-esfr-sprinkler-protection/
CATEGORIES:Webinar
END:VEVENT
BEGIN:VEVENT
DTSTART;VALUE=DATE:20260513
DTEND;VALUE=DATE:20260515
DTSTAMP:20260420T034103
CREATED:20251230T172602Z
LAST-MODIFIED:20260107T194606Z
UID:6339-1778630400-1778803199@www.ifsaglobal.org
SUMMARY:Expo Fuego
DESCRIPTION:Expofuego\n\n\n\n\nDate: May 13 – 14\, 2026\nLocation: Lima\, Peru\nEs la mayor reunión de profesionales nacionales e internacionales dedicados a la protección contra incendios y seguridad humana quienes están dispuestos a intercambiar conocimientos y compartir los avances de esta industria.
URL:https://www.ifsaglobal.org/event/expo-fuego-may-13-14-2026-lima-peru/
CATEGORIES:Conference
END:VEVENT
BEGIN:VEVENT
DTSTART;VALUE=DATE:20260601
DTEND;VALUE=DATE:20260607
DTSTAMP:20260420T034103
CREATED:20251230T172933Z
LAST-MODIFIED:20260107T194513Z
UID:6345-1780272000-1780790399@www.ifsaglobal.org
SUMMARY:INTERSCHUTZ
DESCRIPTION:INTERSCHUTZ 2026\nDate: June 1 – 6\, 2026\nLocation: Hannover\, GER\nDiscover the latest international trends and innovations in firefighting\, rescue services\, and civil protection from June 1 to 6\, 2026. You can purchase your ticket for INTERSCHUTZ online here and activate it by personalizing it.
URL:https://www.ifsaglobal.org/event/interschutz-hannover-ger-june-1-6-2026/
CATEGORIES:Conference
END:VEVENT
BEGIN:VEVENT
DTSTART;VALUE=DATE:20260608
DTEND;VALUE=DATE:20270613
DTSTAMP:20260420T034103
CREATED:20251230T173216Z
LAST-MODIFIED:20260107T193743Z
UID:6351-1780876800-1812844799@www.ifsaglobal.org
SUMMARY:International Symposium on Fire Safety Science
DESCRIPTION:International Symposium on Fire Safety Science\nDate: June 8 – 12\, 2026\nLocation: La Rochelle\, France\nThe IAFSS Symposium has been organized triennially since 1985 and has become the premier fire safety science meeting attracting researchers\, students\, and practicing fire protection engineers from across the globe. \n\n\nThe five-day event will feature invited lectures from world-leading fire science researchers\, parallel presentations of peer-reviewed papers\, work-in-progress poster sessions\, and an image session showcasing fire research. \nIn addition to the technical sessions\, social activities are planned to provide meeting and networking opportunities for colleagues at different career stages in informal settings. \nDuring the two days prior to the symposium\, a series of workshops will be organized\, targeting a range of important topics in fire safety science and fire protection engineering.
URL:https://www.ifsaglobal.org/event/international-symposium-on-fire-safety-science-june-8-12-2026-la-rochelle-france/
CATEGORIES:Conference
END:VEVENT
BEGIN:VEVENT
DTSTART;TZID=America/Indiana/Indianapolis:20260611T100000
DTEND;TZID=America/Indiana/Indianapolis:20260611T110000
DTSTAMP:20260420T034103
CREATED:20260320T195725Z
LAST-MODIFIED:20260320T200052Z
UID:7631-1781172000-1781175600@www.ifsaglobal.org
SUMMARY:Breathing Air Standpipes: Supporting Firefighter Operations in High-Rise Buildings
DESCRIPTION:
URL:https://www.ifsaglobal.org/event/breathing-air-standpipes-supporting-firefighter-operations-in-high-rise-buildings/
CATEGORIES:Webinar
END:VEVENT
BEGIN:VEVENT
DTSTART;VALUE=DATE:20260622
DTEND;VALUE=DATE:20260627
DTSTAMP:20260420T034103
CREATED:20251230T173521Z
LAST-MODIFIED:20260107T194355Z
UID:6357-1782086400-1782518399@www.ifsaglobal.org
SUMMARY:NFPA Conference & Expo
DESCRIPTION:2026 NFPA Conference & Expo\n\n\nDate: June 22 – 24 | Technical Meeting June 25 – 26\nLocation: Mandalay Bay Convention Center\, Las Vegas\, NV\n\nJoin a global community of professionals dedicated to protecting people and property at the premier event for fire\, electrical\, and life safety. The NFPA Conference & Expo® 2026 brings together experts\, suppliers\, and safety professionals to exchange knowledge\, explore cutting-edge technologies\, and help strengthen compliance across industries. Come be a part of the future of safety!
URL:https://www.ifsaglobal.org/event/nfpa-conference-expo-june-22-26-2026-las-vegas-usa/
CATEGORIES:Conference
END:VEVENT
BEGIN:VEVENT
DTSTART;TZID=America/Indiana/Indianapolis:20260709T100000
DTEND;TZID=America/Indiana/Indianapolis:20260709T110000
DTSTAMP:20260420T034103
CREATED:20260313T154728Z
LAST-MODIFIED:20260313T155056Z
UID:7604-1783591200-1783594800@www.ifsaglobal.org
SUMMARY:Artificial Intelligence in Fire Protection: Risk\, Reward\, and Reality
DESCRIPTION:Mark Fessenden\, Managing Director of the IFSA directs the conversation about how Artificial Intelligence is rapidly transforming the construction industry. From proposal generation and contract review to predictive scheduling and automated document control\, AI-enabled tools are already embedded in the software many contractors and manufacturers use every day. \nBut life-safety systems are different. \nWhen automatic sprinkler systems are designed\, installed\, inspected\, and maintained\, the stakes are not productivity alone\, they are human life\, property protection\, and community resilience. As AI begins influencing project management\, compliance review\, risk assessment\, and inspection data analysis\, the industry must confront a critical question: \nCan we trust AI in life-safety applications? \nThis IFSA webinar brings together industry leaders\, engineers\, contractors\, insurers\, and technology experts to explore the practical and ethical implications of AI in fire protection. The discussion will examine where AI is already delivering value\, where caution is warranted\, and how governance\, data quality\, and professional oversight must evolve alongside emerging technologies. \nParticipants will explore: \n\nWhere AI is currently being used in fire protection and construction management\nThe reliability and limitations of AI-generated outputs\nThe role of human verification in life-safety systems\nGovernance frameworks and cybersecurity considerations\nHow AI may influence regulatory compliance and inspection practices\nThe long-term impact on workforce development and professional responsibility\n\nRather than approaching AI as either a disruptive threat or a silver bullet\, this session will provide a balanced\, informed discussion focused on dependable outcomes and industry integrity. \nAs AI capabilities expand globally\, the fire protection community must ensure that innovation strengthens\, not weakens\, the trust placed in life-safety systems. \n  \n 
URL:https://www.ifsaglobal.org/event/artificial-intelligence-in-fire-protection-risk-reward-and-reality/
CATEGORIES:Webinar
END:VEVENT
END:VCALENDAR