BEGIN:VCALENDAR
VERSION:2.0
PRODID:-//International Fire Suppression Alliance - ECPv6.15.20//NONSGML v1.0//EN
CALSCALE:GREGORIAN
METHOD:PUBLISH
X-ORIGINAL-URL:https://www.ifsaglobal.org
X-WR-CALDESC:Events for International Fire Suppression Alliance
REFRESH-INTERVAL;VALUE=DURATION:PT1H
X-Robots-Tag:noindex
X-PUBLISHED-TTL:PT1H
BEGIN:VTIMEZONE
TZID:America/Indiana/Indianapolis
BEGIN:DAYLIGHT
TZOFFSETFROM:-0500
TZOFFSETTO:-0400
TZNAME:EDT
DTSTART:20250309T070000
END:DAYLIGHT
BEGIN:STANDARD
TZOFFSETFROM:-0400
TZOFFSETTO:-0500
TZNAME:EST
DTSTART:20251102T060000
END:STANDARD
BEGIN:DAYLIGHT
TZOFFSETFROM:-0500
TZOFFSETTO:-0400
TZNAME:EDT
DTSTART:20260308T070000
END:DAYLIGHT
BEGIN:STANDARD
TZOFFSETFROM:-0400
TZOFFSETTO:-0500
TZNAME:EST
DTSTART:20261101T060000
END:STANDARD
BEGIN:DAYLIGHT
TZOFFSETFROM:-0500
TZOFFSETTO:-0400
TZNAME:EDT
DTSTART:20270314T070000
END:DAYLIGHT
BEGIN:STANDARD
TZOFFSETFROM:-0400
TZOFFSETTO:-0500
TZNAME:EST
DTSTART:20271107T060000
END:STANDARD
END:VTIMEZONE
BEGIN:VEVENT
DTSTART;VALUE=DATE:20260226
DTEND;VALUE=DATE:20260302
DTSTAMP:20260422T064551
CREATED:20251230T165253Z
LAST-MODIFIED:20260108T140453Z
UID:6273-1772064000-1772409599@www.ifsaglobal.org
SUMMARY:PACC 2026
DESCRIPTION:PACC 2026\nDate: Feb 26 – Mar 1\, 2026\nLocation: Cinnamon Life\, City of Dreams\, Colombo\, Sri Lanka\nPACC 2026 will be held from 26th February to 1st March 2026 at Cinnamon Life\, City of Dreams\, Colombo\, Sri Lanka. This event will witness a participation of about 650+ delegates. \nThe conclave is aimed to bring the best of Smart City CEO’s\, Influential Government Officials\, Architects\, Builders\, Service Consultants\, Project Managers\, System Integrators & OEMs and End users on a common platform for 3 nights / 4 days in one of the finest properties in Colombo\, Sri Lanka. Our aim is to provide the platform to present and deliberate Tech-Talks\, Technology Evolutions\, Best Practices\, Implementation\, Standards & Codes\, Market Challenges & Growth in the Industry. \nThe stress-free evening will be filled with Gala Dinner\, Life Time Achievement Awards\, Networking\, and many more…
URL:https://www.ifsaglobal.org/event/pacc-2026/
CATEGORIES:Conference
END:VEVENT
END:VCALENDAR