BEGIN:VCALENDAR
VERSION:2.0
PRODID:-//International Fire Suppression Alliance - ECPv6.15.20//NONSGML v1.0//EN
CALSCALE:GREGORIAN
METHOD:PUBLISH
X-WR-CALNAME:International Fire Suppression Alliance
X-ORIGINAL-URL:https://www.ifsaglobal.org
X-WR-CALDESC:Events for International Fire Suppression Alliance
REFRESH-INTERVAL;VALUE=DURATION:PT1H
X-Robots-Tag:noindex
X-PUBLISHED-TTL:PT1H
BEGIN:VTIMEZONE
TZID:America/Indiana/Indianapolis
BEGIN:DAYLIGHT
TZOFFSETFROM:-0500
TZOFFSETTO:-0400
TZNAME:EDT
DTSTART:20250309T070000
END:DAYLIGHT
BEGIN:STANDARD
TZOFFSETFROM:-0400
TZOFFSETTO:-0500
TZNAME:EST
DTSTART:20251102T060000
END:STANDARD
BEGIN:DAYLIGHT
TZOFFSETFROM:-0500
TZOFFSETTO:-0400
TZNAME:EDT
DTSTART:20260308T070000
END:DAYLIGHT
BEGIN:STANDARD
TZOFFSETFROM:-0400
TZOFFSETTO:-0500
TZNAME:EST
DTSTART:20261101T060000
END:STANDARD
BEGIN:DAYLIGHT
TZOFFSETFROM:-0500
TZOFFSETTO:-0400
TZNAME:EDT
DTSTART:20270314T070000
END:DAYLIGHT
BEGIN:STANDARD
TZOFFSETFROM:-0400
TZOFFSETTO:-0500
TZNAME:EST
DTSTART:20271107T060000
END:STANDARD
END:VTIMEZONE
BEGIN:VEVENT
DTSTART;VALUE=DATE:20260422
DTEND;VALUE=DATE:20260424
DTSTAMP:20260422T082353
CREATED:20251230T170154Z
LAST-MODIFIED:20260108T140242Z
UID:6291-1776816000-1776988799@www.ifsaglobal.org
SUMMARY:Fire Sprinkler International 2026
DESCRIPTION:Fire Sprinkler International 2026\nDate: April 22 – 23\, 2026\nLocation: Paris Marriott Rive Gauche Hotel & Conference Centre \n\n\n\n\nFire Sprinkler International 2026 is the leading European event focusing on the latest developments in automatic fire extinguishing systems and will be one of the world’s largest conferences\, particularly on fire sprinkler protection.\n\n\n\n\nBuilding on the success of our Salzburg 2025 conference\, which brought together over 400 delegates and 60 exhibitors\, we have planned a comprehensive program enriched with all the latest innovations in the field\, led by 50 speakers\, exploring the latest advances in prevention and the protection of people and property against the dangers and consequences of fires.
URL:https://www.ifsaglobal.org/event/fire-sprinkler-international-2026-april-22-23rd-2026-paris-marriott-rive-gauche-hotel-conference-centre/
CATEGORIES:Conference
END:VEVENT
BEGIN:VEVENT
DTSTART;TZID=America/Indiana/Indianapolis:20260423T100000
DTEND;TZID=America/Indiana/Indianapolis:20260423T100000
DTSTAMP:20260422T082353
CREATED:20260206T191434Z
LAST-MODIFIED:20260206T192634Z
UID:7060-1776938400-1776938400@www.ifsaglobal.org
SUMMARY:Changing Landscape of Data Center Fire Safety
DESCRIPTION:
URL:https://www.ifsaglobal.org/event/changing-landscape-of-data-center-fire-safety/
CATEGORIES:Webinar
END:VEVENT
END:VCALENDAR