BEGIN:VCALENDAR
VERSION:2.0
PRODID:-//International Fire Suppression Alliance - ECPv6.15.20//NONSGML v1.0//EN
CALSCALE:GREGORIAN
METHOD:PUBLISH
X-ORIGINAL-URL:https://www.ifsaglobal.org
X-WR-CALDESC:Events for International Fire Suppression Alliance
REFRESH-INTERVAL;VALUE=DURATION:PT1H
X-Robots-Tag:noindex
X-PUBLISHED-TTL:PT1H
BEGIN:VTIMEZONE
TZID:America/Indiana/Indianapolis
BEGIN:DAYLIGHT
TZOFFSETFROM:-0500
TZOFFSETTO:-0400
TZNAME:EDT
DTSTART:20250309T070000
END:DAYLIGHT
BEGIN:STANDARD
TZOFFSETFROM:-0400
TZOFFSETTO:-0500
TZNAME:EST
DTSTART:20251102T060000
END:STANDARD
BEGIN:DAYLIGHT
TZOFFSETFROM:-0500
TZOFFSETTO:-0400
TZNAME:EDT
DTSTART:20260308T070000
END:DAYLIGHT
BEGIN:STANDARD
TZOFFSETFROM:-0400
TZOFFSETTO:-0500
TZNAME:EST
DTSTART:20261101T060000
END:STANDARD
BEGIN:DAYLIGHT
TZOFFSETFROM:-0500
TZOFFSETTO:-0400
TZNAME:EDT
DTSTART:20270314T070000
END:DAYLIGHT
BEGIN:STANDARD
TZOFFSETFROM:-0400
TZOFFSETTO:-0500
TZNAME:EST
DTSTART:20271107T060000
END:STANDARD
END:VTIMEZONE
BEGIN:VEVENT
DTSTART;VALUE=DATE:20260428
DTEND;VALUE=DATE:20260501
DTSTAMP:20260422T082740
CREATED:20251230T170448Z
LAST-MODIFIED:20260108T135903Z
UID:6297-1777334400-1777593599@www.ifsaglobal.org
SUMMARY:The Fire Safety Event (FSE)
DESCRIPTION:The Fire Safety Event (FSE)\nDate: April 28 – 30\, 2026\nLocation: NEC Birmingham\, GB\nPUTTING FIRE SAFETY AT THE FOREFRONT OF THE AGENDA\n\n\nFrom 28–30 April 2026\, The Fire Safety Event (FSE) returns to ignite the halls of NEC Birmingham\, bringing together the entire fire safety community under one roof. FSE is the premier destination for fire safety professionals\, installers\, integrators\, consultants\, and end users to connect\, collaborate\, and stay ahead of the curve. \nDiscover cutting-edge solutions from the world’s leading manufacturers and distributors\, alongside innovative start-ups driving disruption in the industry.Enhance your knowledge with CPD-accredited content\, developed in partnership with industry leaders and focused on the latest challenges\, trends\, and regulations.
URL:https://www.ifsaglobal.org/event/the-fire-safety-event-fse-april-28-30-2026-nec-birmingham-gb/
CATEGORIES:Conference
END:VEVENT
BEGIN:VEVENT
DTSTART;VALUE=DATE:20260429
DTEND;VALUE=DATE:20260502
DTSTAMP:20260422T082740
CREATED:20251230T171130Z
LAST-MODIFIED:20260108T135624Z
UID:6309-1777420800-1777679999@www.ifsaglobal.org
SUMMARY:2026 NFSA Annual Seminar & Business & Leadership Conference
DESCRIPTION:2026 NFSA Annual Seminar and Business & Leadership Conference\n\n\n\n\n\n\n\n\n\nDate: April 29\, 2026 – May 1\, 2026 | 8:00 AM-10:00 PM\n\nLocation: The Westin Seattle | 1900 5th Avenue | Seattle\, WA 98101\n\n\n\n\n\n\n\n\nWe hope you will join us in Seattle\, Washington\, for the 2026 NFSA Annual Seminar and Business & Leadership Conference! This year’s event will be a dynamic experience\, bringing together leaders\, experts\, and innovators from across the fire sprinkler industry. \n\n\nOur annual gathering continues to serve as a premier platform for advancing knowledge\, strengthening collaboration\, and driving progress in fire and life safety. As new challenges and opportunities emerge\, NFSA remains committed to equipping our members and partners with the tools and connections needed to succeed. \nAgenda Highlights Include: \n\n Keynote Addresses – Gain insights from visionary leaders shaping the future of fire protection and business leadership.\n Educational Sessions – Engage in 30 sessions covering technical advancements\, leadership development\, and industry-specific best practices.\n Networking Opportunities – Build connections with peers\, professionals\, and future collaborators.\n Tabletops – Discover the latest technologies\, products\, and services showcased by our vendors.\n Awards Banquet – Celebrate excellence across the fire sprinkler industry as we honor the 2026 Golden Sprinkler Award\, Russell P. Fleming Technical Service Award\, and Public Safety Leadership Award recipients.\nCommon Voices Seattle Excursion – Common Voices is mixing things up this year! Instead of a golf outing\, they have planned a two-hour scenic sail on Argosy Cruises’ Spirit of Seattle.\n\nThe 2026 NFSA Annual Seminar and Business & Leadership Conference is more than just an event—it’s an opportunity to exchange ideas\, sharpen expertise\, and chart the path forward for our industry. Whether you’re an experienced professional or new to the field\, this conference offers valuable perspectives and meaningful connections to support your growth and success. \nWe look forward to welcoming you to Seattle for a week of learning\, networking\, and celebration as we continue our mission: protecting lives and property through the widespread acceptance of the fire sprinkler concept.
URL:https://www.ifsaglobal.org/event/2026-nfsa-annual-seminar-business-leadership-conference-seattle-usa-apr-29-may-1-2026/
CATEGORIES:Conference
END:VEVENT
END:VCALENDAR