BEGIN:VCALENDAR
VERSION:2.0
PRODID:-//International Fire Suppression Alliance - ECPv6.15.20//NONSGML v1.0//EN
CALSCALE:GREGORIAN
METHOD:PUBLISH
X-ORIGINAL-URL:https://www.ifsaglobal.org
X-WR-CALDESC:Events for International Fire Suppression Alliance
REFRESH-INTERVAL;VALUE=DURATION:PT1H
X-Robots-Tag:noindex
X-PUBLISHED-TTL:PT1H
BEGIN:VTIMEZONE
TZID:America/Indiana/Indianapolis
BEGIN:DAYLIGHT
TZOFFSETFROM:-0500
TZOFFSETTO:-0400
TZNAME:EDT
DTSTART:20250309T070000
END:DAYLIGHT
BEGIN:STANDARD
TZOFFSETFROM:-0400
TZOFFSETTO:-0500
TZNAME:EST
DTSTART:20251102T060000
END:STANDARD
BEGIN:DAYLIGHT
TZOFFSETFROM:-0500
TZOFFSETTO:-0400
TZNAME:EDT
DTSTART:20260308T070000
END:DAYLIGHT
BEGIN:STANDARD
TZOFFSETFROM:-0400
TZOFFSETTO:-0500
TZNAME:EST
DTSTART:20261101T060000
END:STANDARD
BEGIN:DAYLIGHT
TZOFFSETFROM:-0500
TZOFFSETTO:-0400
TZNAME:EDT
DTSTART:20270314T070000
END:DAYLIGHT
BEGIN:STANDARD
TZOFFSETFROM:-0400
TZOFFSETTO:-0500
TZNAME:EST
DTSTART:20271107T060000
END:STANDARD
BEGIN:DAYLIGHT
TZOFFSETFROM:-0500
TZOFFSETTO:-0400
TZNAME:EDT
DTSTART:20280312T070000
END:DAYLIGHT
BEGIN:STANDARD
TZOFFSETFROM:-0400
TZOFFSETTO:-0500
TZNAME:EST
DTSTART:20281105T060000
END:STANDARD
END:VTIMEZONE
BEGIN:VEVENT
DTSTART;VALUE=DATE:20260608
DTEND;VALUE=DATE:20270613
DTSTAMP:20260419T223210
CREATED:20251230T173216Z
LAST-MODIFIED:20260107T193743Z
UID:6351-1780876800-1812844799@www.ifsaglobal.org
SUMMARY:International Symposium on Fire Safety Science
DESCRIPTION:International Symposium on Fire Safety Science\nDate: June 8 – 12\, 2026\nLocation: La Rochelle\, France\nThe IAFSS Symposium has been organized triennially since 1985 and has become the premier fire safety science meeting attracting researchers\, students\, and practicing fire protection engineers from across the globe. \n\n\nThe five-day event will feature invited lectures from world-leading fire science researchers\, parallel presentations of peer-reviewed papers\, work-in-progress poster sessions\, and an image session showcasing fire research. \nIn addition to the technical sessions\, social activities are planned to provide meeting and networking opportunities for colleagues at different career stages in informal settings. \nDuring the two days prior to the symposium\, a series of workshops will be organized\, targeting a range of important topics in fire safety science and fire protection engineering.
URL:https://www.ifsaglobal.org/event/international-symposium-on-fire-safety-science-june-8-12-2026-la-rochelle-france/
CATEGORIES:Conference
END:VEVENT
END:VCALENDAR