BEGIN:VCALENDAR
VERSION:2.0
PRODID:-//International Fire Suppression Alliance - ECPv6.15.20//NONSGML v1.0//EN
CALSCALE:GREGORIAN
METHOD:PUBLISH
X-WR-CALNAME:International Fire Suppression Alliance
X-ORIGINAL-URL:https://www.ifsaglobal.org
X-WR-CALDESC:Events for International Fire Suppression Alliance
REFRESH-INTERVAL;VALUE=DURATION:PT1H
X-Robots-Tag:noindex
X-PUBLISHED-TTL:PT1H
BEGIN:VTIMEZONE
TZID:America/Indiana/Indianapolis
BEGIN:DAYLIGHT
TZOFFSETFROM:-0500
TZOFFSETTO:-0400
TZNAME:EDT
DTSTART:20240310T070000
END:DAYLIGHT
BEGIN:STANDARD
TZOFFSETFROM:-0400
TZOFFSETTO:-0500
TZNAME:EST
DTSTART:20241103T060000
END:STANDARD
BEGIN:DAYLIGHT
TZOFFSETFROM:-0500
TZOFFSETTO:-0400
TZNAME:EDT
DTSTART:20250309T070000
END:DAYLIGHT
BEGIN:STANDARD
TZOFFSETFROM:-0400
TZOFFSETTO:-0500
TZNAME:EST
DTSTART:20251102T060000
END:STANDARD
BEGIN:DAYLIGHT
TZOFFSETFROM:-0500
TZOFFSETTO:-0400
TZNAME:EDT
DTSTART:20260308T070000
END:DAYLIGHT
BEGIN:STANDARD
TZOFFSETFROM:-0400
TZOFFSETTO:-0500
TZNAME:EST
DTSTART:20261101T060000
END:STANDARD
BEGIN:DAYLIGHT
TZOFFSETFROM:-0500
TZOFFSETTO:-0400
TZNAME:EDT
DTSTART:20270314T070000
END:DAYLIGHT
BEGIN:STANDARD
TZOFFSETFROM:-0400
TZOFFSETTO:-0500
TZNAME:EST
DTSTART:20271107T060000
END:STANDARD
END:VTIMEZONE
BEGIN:VTIMEZONE
TZID:Asia/Dubai
BEGIN:STANDARD
TZOFFSETFROM:+0400
TZOFFSETTO:+0400
TZNAME:+04
DTSTART:20250101T000000
END:STANDARD
END:VTIMEZONE
BEGIN:VTIMEZONE
TZID:Africa/Abidjan
BEGIN:STANDARD
TZOFFSETFROM:+0000
TZOFFSETTO:+0000
TZNAME:GMT
DTSTART:20240101T000000
END:STANDARD
END:VTIMEZONE
BEGIN:VEVENT
DTSTART;TZID=America/Indiana/Indianapolis:20260219T100000
DTEND;TZID=America/Indiana/Indianapolis:20260219T110000
DTSTAMP:20260422T175313
CREATED:20260107T204136Z
LAST-MODIFIED:20260206T192231Z
UID:6633-1771495200-1771498800@www.ifsaglobal.org
SUMMARY:Lithium-Ion Webinar: Protection of Lithium-Ion Batteries in Manufacturing & Storage
DESCRIPTION:  \n 
URL:https://www.ifsaglobal.org/event/lithium-ion-webinar-protection-of-lithium-ion-batteries-in-manufacturing-storage/
CATEGORIES:Webinar
END:VEVENT
BEGIN:VEVENT
DTSTART;VALUE=DATE:20260112
DTEND;VALUE=DATE:20260115
DTSTAMP:20260422T175313
CREATED:20251230T164936Z
LAST-MODIFIED:20260108T140618Z
UID:6267-1768176000-1768435199@www.ifsaglobal.org
SUMMARY:Intersec
DESCRIPTION:Intersec\nDate: Jan 12 – 14\, 2026\nLocation: Dubai\, UAE | Dubai World Trade Centre\nIntersec’s 27th edition returns from 12–14 January 2026 at the Dubai World Trade Centre – co-located with Light + Intelligent Building Middle East. \n\n\n\nFor more than two decades\, Intersec has been a success story\, offering growth potential to exhibitors and visitors as innovation across all our sectors continues to address new levels of threat and risk. This makes it more important than ever that those charged with maintaining national and international security\, safety and providing state-of-the-art fire protection should meet and discuss strategies and solutions.\n\n\n\nThis mega gathering is a convention of leaders\, policy makers\, investment incubators\, corporate partners and world-class start-ups\, all working towards a safer tomorrow.
URL:https://www.ifsaglobal.org/event/intersec-dubai-uae/
CATEGORIES:Conference
END:VEVENT
BEGIN:VEVENT
DTSTART;TZID=America/Indiana/Indianapolis:20260107T080000
DTEND;TZID=America/Indiana/Indianapolis:20260107T170000
DTSTAMP:20260422T175313
CREATED:20260107T203927Z
LAST-MODIFIED:20260108T140653Z
UID:6621-1767772800-1767805200@www.ifsaglobal.org
SUMMARY:Building Information Modeling Webinar: Advancing Fire Protection Design Through Software Innovation and BIM Integration
DESCRIPTION:
URL:https://www.ifsaglobal.org/event/building-information-modeling-webinar-advancing-fire-protection-design-through-software-innovation-and-bim-integration/
CATEGORIES:Webinar
END:VEVENT
BEGIN:VEVENT
DTSTART;TZID=America/Indiana/Indianapolis:20251211T093000
DTEND;TZID=America/Indiana/Indianapolis:20251211T103000
DTSTAMP:20260422T175313
CREATED:20251119T180425Z
LAST-MODIFIED:20251119T180425Z
UID:5449-1765445400-1765449000@www.ifsaglobal.org
SUMMARY:
DESCRIPTION:Mark Fessenden\, Managing Director of the IFSA\, examines the crucial importance of utilizing certified fire protection products (UL & FM) and the significant risks associated with counterfeit or non-compliant components in water-based fire suppression systems. Attendees will gain insights into global certification processes\, case studies of counterfeit detection\, and the life-safety risks associated with obsolete technologies such as o-ring sprinklers. The presentation highlights how product certification protects system integrity\, ensures regulatory compliance\, and ultimately saves lives.
URL:https://www.ifsaglobal.org/event/5449/
CATEGORIES:Webinar
END:VEVENT
BEGIN:VEVENT
DTSTART;TZID=America/Indiana/Indianapolis:20251111T080000
DTEND;TZID=America/Indiana/Indianapolis:20251113T170000
DTSTAMP:20260422T175313
CREATED:20251105T164234Z
LAST-MODIFIED:20251105T164843Z
UID:5353-1762848000-1763053200@www.ifsaglobal.org
SUMMARY:The Fire Safety Event Asia
DESCRIPTION:
URL:https://www.ifsaglobal.org/event/the-fire-safety-event-asia/
CATEGORIES:Conference
END:VEVENT
BEGIN:VEVENT
DTSTART;VALUE=DATE:20251027
DTEND;VALUE=DATE:20251030
DTSTAMP:20260422T175313
CREATED:20250709T191144Z
LAST-MODIFIED:20250709T191227Z
UID:4406-1761523200-1761782399@www.ifsaglobal.org
SUMMARY:Expo Fire & Safety 2025
DESCRIPTION:
URL:https://www.ifsaglobal.org/event/expo-fire-safety-2025/
CATEGORIES:Conference
END:VEVENT
BEGIN:VEVENT
DTSTART;VALUE=DATE:20251021
DTEND;VALUE=DATE:20251024
DTSTAMP:20260422T175313
CREATED:20250709T191003Z
LAST-MODIFIED:20250709T191003Z
UID:4397-1761004800-1761263999@www.ifsaglobal.org
SUMMARY:SFPE Annual Conference & Expo
DESCRIPTION:
URL:https://www.ifsaglobal.org/event/sfpe-annual-conference-expo/
CATEGORIES:Conference
END:VEVENT
BEGIN:VEVENT
DTSTART;VALUE=DATE:20251015
DTEND;VALUE=DATE:20251019
DTSTAMP:20260422T175313
CREATED:20250709T190603Z
LAST-MODIFIED:20250709T190659Z
UID:4385-1760486400-1760831999@www.ifsaglobal.org
SUMMARY:AFSA44
DESCRIPTION:
URL:https://www.ifsaglobal.org/event/afsa44/
CATEGORIES:Conference
END:VEVENT
BEGIN:VEVENT
DTSTART;VALUE=DATE:20251008
DTEND;VALUE=DATE:20251009
DTSTAMP:20260422T175313
CREATED:20250709T193028Z
LAST-MODIFIED:20250709T193241Z
UID:4439-1759881600-1759967999@www.ifsaglobal.org
SUMMARY:World Fire Safety Day
DESCRIPTION:
URL:https://www.ifsaglobal.org/event/world-fire-safety-day-2/
CATEGORIES:Campaign
END:VEVENT
BEGIN:VEVENT
DTSTART;VALUE=DATE:20250930
DTEND;VALUE=DATE:20251003
DTSTAMP:20260422T175313
CREATED:20250709T190151Z
LAST-MODIFIED:20250709T190329Z
UID:4373-1759190400-1759449599@www.ifsaglobal.org
SUMMARY:Fire Expo Latam 2025
DESCRIPTION:
URL:https://www.ifsaglobal.org/event/fire-expo-latam-2025/
CATEGORIES:Conference
END:VEVENT
BEGIN:VEVENT
DTSTART;VALUE=DATE:20250930
DTEND;VALUE=DATE:20251003
DTSTAMP:20260422T175313
CREATED:20250709T185859Z
LAST-MODIFIED:20250709T190018Z
UID:4361-1759190400-1759449599@www.ifsaglobal.org
SUMMARY:6th Edition of Intersec Saudi Arabia
DESCRIPTION:
URL:https://www.ifsaglobal.org/event/6th-edition-of-intersec-saudi-arabia/
CATEGORIES:Conference
END:VEVENT
BEGIN:VEVENT
DTSTART;VALUE=DATE:20250925
DTEND;VALUE=DATE:20250928
DTSTAMP:20260422T175313
CREATED:20250709T185336Z
LAST-MODIFIED:20250722T025539Z
UID:4343-1758758400-1759017599@www.ifsaglobal.org
SUMMARY:Fire India 2025
DESCRIPTION:
URL:https://www.ifsaglobal.org/event/fire-india-2025/
CATEGORIES:Conference
END:VEVENT
BEGIN:VEVENT
DTSTART;VALUE=DATE:20250827
DTEND;VALUE=DATE:20250830
DTSTAMP:20260422T175313
CREATED:20250709T184550Z
LAST-MODIFIED:20250709T184715Z
UID:4319-1756252800-1756511999@www.ifsaglobal.org
SUMMARY:Brazilian Fire Safety Fair
DESCRIPTION:
URL:https://www.ifsaglobal.org/event/brazilian-fire-safety-fair/
CATEGORIES:Conference
END:VEVENT
BEGIN:VEVENT
DTSTART;VALUE=DATE:20250826
DTEND;VALUE=DATE:20250830
DTSTAMP:20260422T175313
CREATED:20250709T182627Z
LAST-MODIFIED:20250709T183114Z
UID:4298-1756166400-1756511999@www.ifsaglobal.org
SUMMARY:AFAC25 Conference & Exhibition
DESCRIPTION:
URL:https://www.ifsaglobal.org/event/afac25-conference-exhibition/
CATEGORIES:Conference
END:VEVENT
BEGIN:VEVENT
DTSTART;VALUE=DATE:20250729
DTEND;VALUE=DATE:20250731
DTSTAMP:20260422T175313
CREATED:20250709T173033Z
LAST-MODIFIED:20250709T181609Z
UID:4193-1753747200-1753919999@www.ifsaglobal.org
SUMMARY:9th International Tall Building Fire Safety Conference
DESCRIPTION:
URL:https://www.ifsaglobal.org/event/9th-international-tall-building-fire-safety-conference/
CATEGORIES:Conference
END:VEVENT
BEGIN:VEVENT
DTSTART;TZID=America/Indiana/Indianapolis:20250722T025853
DTEND;TZID=America/Indiana/Indianapolis:20250722T025853
DTSTAMP:20260422T175313
CREATED:20250709T184916Z
LAST-MODIFIED:20250722T025853Z
UID:4331-1753153133-1753153133@www.ifsaglobal.org
SUMMARY:Fire & Security India Expo
DESCRIPTION:
URL:https://www.ifsaglobal.org/event/fire-security-india-expo/
CATEGORIES:Conference
END:VEVENT
BEGIN:VEVENT
DTSTART;TZID=America/Indiana/Indianapolis:20250721T080000
DTEND;TZID=America/Indiana/Indianapolis:20250721T170000
DTSTAMP:20260422T175313
CREATED:20250721T185919Z
LAST-MODIFIED:20250721T190314Z
UID:4642-1753084800-1753117200@www.ifsaglobal.org
SUMMARY:Fire Sprinkler International 2026
DESCRIPTION:
URL:https://www.ifsaglobal.org/event/fire-sprinkler-international-2026/
CATEGORIES:Conference
END:VEVENT
BEGIN:VEVENT
DTSTART;TZID=America/Indiana/Indianapolis:20250721T080000
DTEND;TZID=America/Indiana/Indianapolis:20250721T170000
DTSTAMP:20260422T175313
CREATED:20250721T185802Z
LAST-MODIFIED:20250721T190210Z
UID:4636-1753084800-1753117200@www.ifsaglobal.org
SUMMARY:Expofuego Chile
DESCRIPTION:
URL:https://www.ifsaglobal.org/event/expo-fuego/
CATEGORIES:Conference
END:VEVENT
BEGIN:VEVENT
DTSTART;VALUE=DATE:20250616
DTEND;VALUE=DATE:20250619
DTSTAMP:20260422T175313
CREATED:20250326T143033Z
LAST-MODIFIED:20250709T181702Z
UID:2714-1750032000-1750291199@www.ifsaglobal.org
SUMMARY:NFPA Conference & Expo 2025 - Las Vegas\, NV
DESCRIPTION:
URL:https://www.ifsaglobal.org/event/nfpa-conference-expo-2025-las-vegas-nv/
CATEGORIES:Conference
END:VEVENT
END:VCALENDAR